Workbook

Sheet Záradék
A1: Deconim Kft
A2: 4400 Nyíregyháza, Dózsa György u. 41.
A3: Tel.: +36 70 7070 27577
A4: Adószám: 14123245-2-15
A9: Név : Tiszabura Általános Iskola
A11: Cím : 5235 Tiszabura,Kossuth Lajos utca 62/b. Hrsz.: 91 | B11: Kelt: 2017. év 08. hó.
B13: Készítette : Nagy Zoltán
A15: A munka leírása:
A16: Önkormányzati épületek energetikai korszerűsítése
A17: Építészeti árazott költségvetési kiírás
A19: Készült: TOP-3.2.1 pályázathoz
A21: Megnevezés | C21: Anyagköltség | D21: Díjköltség
A22: 1. Építmény közvetlen költségei | C22: =Összesítő!B15 -> 0 | D22: =Összesítő!C15 -> 0
A23: 1.1 Közvetlen önköltség összesen | C23: =C22 -> 0 | D23: =ROUND(D22,0) -> 0
A24: 2.1 ÁFA vetítési alap | C24: =ROUND(C23+D23,0) -> 0
A25: 2.2 Áfa | B25: 0.27 | C25: =ROUND(C24*B25,0) -> 0
A26: 3. A munka ára | C26: =ROUND(C24+C25,0) -> 0
A28: Megjegyzés:
A29: A költségvetési kiírás a tervek és műszaki leírással együtt kezelendő!
C32: ph.

Sheet Összesítő
A1: Munkanem megnevezése | B1: Anyag összege | C1: Díj összege
A2: Állványozás | B2: =' Állványozás'!H3 -> 0 | C2: =' Állványozás'!I3 -> 0
A3: Irtás, föld- és sziklamunka | B3: =' Irtás, föld- és szikalmunka'!H6 -> 0 | C3: =' Irtás, föld- és szikalmunka'!I6 -> 0
A4: Helyszíni beton és vasbeton | B4: =' Helyszíni beton és vasbeton '!H6 -> 0 | C4: =' Helyszíni beton és vasbeton '!I6 -> 0
A5: Vakolás-rabicolás | B5: =' Vakolás-rabicolás'!H8 -> 0 | C5: =' Vakolás-rabicolás'!I8 -> 0
A6: Hideg- és melegburkolatok | B6: =' Hideg- és melegburkolatok'!H7 -> 0 | C6: =' Hideg- és melegburkolatok'!I7 -> 0
A7: Bádogozás | B7: =' Bádogozás'!H7 -> 0 | C7: =' Bádogozás'!I7 -> 0
A8: Asztalosszerkezetek | B8: =' Asztalosszerkezetek'!H18 -> 0 | C8: =' Asztalosszerkezetek'!I18 -> 0
A9: Lakatos-szerkezetek | B9: =' Lakatos-szerkezetek elhelyez'!H3 -> 0 | C9: =' Lakatos-szerkezetek elhelyez'!I3 -> 0
A10: Felületképzés | B10: =' Felületképzés'!H4 -> 0 | C10: =' Felületképzés'!I4 -> 0
A11: Szigetelés | B11: =' Szigetelés'!H8 -> 0 | C11: =' Szigetelés'!I8 -> 0
A12: Útpálya tartozékok építése | B12: =' Útpálya tartozékok építése'!H5 -> 0 | C12: =' Útpálya tartozékok építése'!I5 -> 0
A13: Vízellátás-csatornázás | B13: ='Vízellátás-csatornázás'!H3 -> 0 | C13: ='Vízellátás-csatornázás'!I3 -> 0
A14: Villanyszerelés | B14: =Villanyszerelés!H8 -> 0 | C14: =Villanyszerelés!I8 -> 0
A15: Összesen: | B15: =SUM(B2:B14) -> 0 | C15: =SUM(C2:C14) -> 0

Sheet  Állványozás
A1: Ssz. | B1: Tételszám | C1: Tétel szövege | D1: Menny. | E1: Egység | F1: Anyag egységár | G1: Díj egységre | H1: Anyag összesen | I1: Díj összesen
A2: 1 | B2: 15-012-021.1-0023003 | C2: Homlokzati keretállványok, fém keretvázból, szintenkénti pallóterítéssel, korláttal, lábdeszkával, védőfüggonnyél és az összes kiegészítővel, a beruházás organizációs költségeivel 6,00 m munkapadló magasságig | D2: 690 | E2: m2 | H2: =F2*D2 -> 0 | I2: =G2*D2 -> 0
C3: Munkanem összesen (huf): | H3: =SUM(H2) -> 0 | I3: =SUM(I2) -> 0

Sheet  Irtás, föld- és szikalmunka
A1: Ssz. | B1: Tételszám | C1: Tétel szövege | D1: Menny. | E1: Egység | F1: Anyag ár | G1: Díj egységre | H1: Anyag összesen | I1: Díj összesen
A2: 2 | B2: 21-003-005.1.2.2 | C2: Munkaárok földkiemelése közművesített területen,kézi erővel, bármely konzisztenciájú talajban, dúcolás nélkül, 2,0 m2-nél nagyobb szelvénynél, III. talajosztály | D2: 18 | E2: m3 | H2: =F2*D2 -> 0 | I2: =G2*D2 -> 0
A3: 3 | B3: 21-011-011.6 | C3: Építési törmelék konténeres elszállítása, lerakása, lerakóhelyi díjjal, 8,0 m3-es konténerbe | D3: 4 | E3: db | H3: =F3*D3 -> 0 | I3: =G3*D3 -> 0
B4: 21-003-011.1.1 | C4: Földvisszatöltés munkagödörbe vagy munkaárokba,tömörítés nélkül, réteges elterítéssel,I-IV. osztályú talajban, kézi erővel, az anyag súlypontja karoláson belül, a vezeték (műtárgy) felett és mellett 50 cm vastagságig | D4: 16 | E4: m3 | H4: =F4*D4 -> 0 | I4: =G4*D4 -> 0
B5: 21-008-001.1.2 | C5: Tömörítés Döngölés kézi erővel száraz, földnedves III. fejtési talajosztályban | D5: 16 | E5: m3 | H5: =F5*D5 -> 0 | I5: =G5*D5 -> 0
C6: Munkanem összesen (huf): | H6: =SUM(H2:H5) -> 0 | I6: =SUM(I2:I5) -> 0

Sheet  Helyszíni beton és vasbeton 
A1: Ssz. | B1: Tételszám | C1: Tétel szövege | D1: Menny. | E1: Egység | F1: Anyag ár | G1: Díj egységre | H1: Anyag összesen | I1: Díj összesen
A2: 3 | B2: "K" | C2: Külső akadálymentes rámpa szerkezetének építése,kültéri lépcső építése terv szerint | D2: 1 | E2: klt | H2: =F2*D2 -> 0 | I2: =G2*D2 -> 0
B3: "K" | C3: Járdakészítés betonból, 8 cm vastagságig, tükörkiemeléssel,15 cm kavicságyazattal, szegéllyel, zsaluzattal,X0b(H) környezeti osztályú,kissé képlékeny konzisztenciájú betonból, saját levében simítva C16/20 - X0b(H) kissé képlékeny kavicsbeton keverék CEM 42,5 pc. D?max = 16 mm, m = 6,4 finomsági modulussal | D3: 80 | E3: m2 | H3: =F3*D3 -> 0 | I3: =G3*D3 -> 0
B4: 31-000-011.2.2 | C4: Lépcsőszerkezetek bontása, vasbetonból, C20/25 - C25/30 betonminőség között | D4: 2 | E4: m3 | H4: =F4*D4 -> 0 | I4: =G4*D4 -> 0
B5: 31-000-013.2 | C5: Beton aljzatok, járdák bontása 10 cm vastagságig, kavicsbetonból, salakbetonból | D5: 80 | E5: m2 | H5: =F5*D5 -> 0 | I5: =G5*D5 -> 0
C6: Munkanem összesen (huf): | H6: =SUM(H2:H5) -> 0 | I6: =SUM(I2:I5) -> 0

Sheet  Vakolás-rabicolás
A1: Ssz. | B1: Tételszám | C1: Tétel szövege | D1: Menny. | E1: Egység | F1: Anyag egységár | G1: Díj egységre | H1: Anyag összesen | I1: Díj összesen
A2: 1 | B2: 36-002-003-0142126 | C2: Előkészítő munkák, alapozók, előfröcskölők, gúzrétegek, külső-belső vakolatokhoz Mélyalapozók, vakolatszilárdítók felhordása, kézi erővel Rigips Rikombi Grund alapozó, erősen nedvszívó felületekhez | D2: 423 | E2: m2 | H2: =F2*D2 -> 0 | I2: =G2*D2 -> 0
A3: 2 | B3: 36-002-004-0414509 | C3: Előkészítő munkák, alapozók, előfröcskölők, gúzrétegek, külső-belső vakolatokhoz Vékonyvakolat alapozók felhordása, kézi erővel LB-Knauf PUTZGRUND/Vakolatalapozó, Csz: K00854315 | D3: 423 | E3: m2 | H3: =F3*D3 -> 0 | I3: =G3*D3 -> 0
A4: 3 | B4: 36-005-021.2.4.3-0415281 | C4: Homlokzatvakolatok, előkevert gyári habarcsból Vékonyvakolatok, színvakolatok felhordása alapozott, előkészített felületre, vödrös kiszerelésű anyagból, szilikát vékonyvakolat készítése, egy rétegben, 3 mm vagy nagyobb szemcsemérettel Baumit SilikatTop (Baumit Szilikát) vakolat, kapart 3 mm, 9, 8, 7, 6 színcsoport | D4: 378 | E4: m2 | H4: =F4*D4 -> 0 | I4: =G4*D4 -> 0
A5: 4 | B5: 36-007-009.2-0414512 | C5: Díszítő és lábazati műgyantás kötőanyagú vakolatréteg felhordása,kézi erővel, vödrös kiszerelésű anyagból LB-Knauf Colorol díszítő és lábazati vakolat, 24 színben, Csz: K008298** | D5: 45 | E5: m2 | H5: =F5*D5 -> 0 | I5: =G5*D5 -> 0
A6: 5 | B6: 36-051-006.2.1-0149064 | C6: Kültéri vakolóprofilok elhelyezése, utólagos (táblás) hőszigetelő rendszerhez (EPS), polisztirol,PVC,alumínium,rozsdam.acél,horg.acél,üvegszövet, 30 - 160 mm hőszigeteléshez,pozitív sarkokra MASTERPLAST Thermomaster PVC élvédő 10+10 cm üvegszövet hálóval, Cikkszám: 0107-10100000 | D6: 160 | E6: m | H6: =F6*D6 -> 0 | I6: =G6*D6 -> 0
A7: 7 | B7: 36-051-006.2.8-0149066 | C7: Kültéri vakolóprofilok elhelyezése, utólagos (táblás) hőszigetelő rendszerhez (EPS), rozsdamentes acélból, alumíniumból, PVC-ből, 6 mm vakolat vastagsághoz, vízcseppentő profilok, vízszintes élekhez MASTERPLAST Thermomaster PVC-B hálós balkon profil vízorral, Cikkszám: 0109-00250000 | D7: 70 | E7: m | H7: =F7*D7 -> 0 | I7: =G7*D7 -> 0
C8: Munkanem összesen (huf): | H8: =SUM(H2:H7) -> 0 | I8: =SUM(I2:I7) -> 0

Sheet  Hideg- és melegburkolatok
A1: Ssz. | B1: Tételszám | C1: Tétel szövege | D1: Menny. | E1: Egység | F1: Anyag egységár | G1: Díj egységre | H1: Anyag összesen | I1: Díj összesen
A2: 1 | B2: ""K"" | C2: Eltérő színű és érdességű burkolat vezetősáv céljából | D2: 10 | E2: m | H2: =F2*D2 -> 0 | I2: =G2*D2 -> 0
B3: ""K"" | C3: Klinkertégla homlokzatburkolat készítése | D3: 90 | E3: m2 | H3: =F3*D3 -> 0 | I3: =G3*D3 -> 0
A4: 2 | B4: 42-012-001.1.2.1.1.3-0212004 | C4: Fal-, pillér-, oszlopburkolat készítése beltérben, gipszkarton alapfelületen, mázas kerámiával, kötésben vagy hálósan, 3-5 mm vtg. ragasztóba rakva, 1-10 mm fugaszélességgel, 25x25 - 40x40 cm közötti lapmérettel LB-Knauf FLEX/Flex ragasztó, EN 12004 szerinti C2TE minősítéssel, kül- és beltérbe, fagyálló, padlófűtéshez is, Cikkszám: K00617021LB-Knauf Colorin flex fugázó, EN 13888 szerinti CG2 minősítéssel, fehér, Cikkszám: K00630*** | D4: 21 | E4: m2 | H4: =F4*D4 -> 0 | I4: =G4*D4 -> 0
A5: 3 | B5: 42-011-002.1.1.4.1-0212044 | C5: Padlóburkolat hordozószerkezetének felületelőkészítése beltérben, beton alapfelületen önterülő felületkiegyenlítés készítése 5 mm átlagos rétegvastagságban LB-Knauf NIVOPLUS/Padlókiegyenlítő 3-15 mm, Csz: K00618001 | D5: 10 | E5: m2 | H5: =F5*D5 -> 0 | I5: =G5*D5 -> 0
A6: 4 | B6: 42-022-001.1.1.2.1.1-0216001 | C6: Padlóburkolat készítése, beltérben, tégla, beton, vakolt alapfelületen, gres, kőporcelán lappal, kötésben vagy hálósan, 3-5 mm vtg. ragasztóba rakva, 1-10 mm fugaszélességgel, 20x20 - 40x40 cm közötti lapmérettel Multifix AK-10 C1T csemperagasztó, kül-beltéri, fagyálló, megcsúszásmentes C1 T, fehér, Kód: 0501/3,Isomat MULTIFILL 0-5 cementbázisú fugázó falra, padlóra, 0-5 mm-ig, kül-beltérre, CG2, fehér, Kód: 0511/3 | D6: 10 | E6: m2 | H6: =F6*D6 -> 0 | I6: =G6*D6 -> 0
C7: Munkanem összesen (huf): | H7: =SUM(H2:H6) -> 0 | I7: =SUM(I2:I6) -> 0

Sheet  Bádogozás
A1: Ssz. | B1: Tételszám | C1: Tétel szövege | D1: Menny. | E1: Egység | F1: Anyag egységár | G1: Díj egységre | H1: Anyag összesen | I1: Díj összesen
A2: 1 | B2: 43-000-007 | C2: Szegélyek, párkány könyöklő bontása,100 cm kiterített szélességig | D2: 30 | E2: m | H2: =F2*D2 -> 0 | I2: =G2*D2 -> 0
B3: 43-003-001.1.2.2-0993251 | C3: Ereszszegély szerelése keményhéjalású tetőhöz, színes műanyagbevonatú horganyzott acéllemezből, 41-75 cm kiterített szélességgel LINDAB Seamline FOP szegély tűzihorganyzott acél + Classic bevonat, standard színben, 0,5 mm vtg., kiterített szélesség: 451-500 mm | D3: 30 | E3: m | H3: =F3*D3 -> 0 | I3: =G3*D3 -> 0
A4: 2 | B4: 43-003-008.1.1-0995050 | C4: Ablak- vagy szemöldökpárkány minősített ötvözött horganylemezből, 50 cm kiterített szélességig Ablakpárkány VM-ZINC-NATÚR ZINC minőségű ötvözött horganylemezből, 0,8 mm vtg., standard felületű, Ksz: 50 cm | D4: 30 | E4: m | H4: =F4*D4 -> 0 | I4: =G4*D4 -> 0
B5: 43-000-001 | C5: Bontási munkák Függőereszcsatorna bontása,50 cm kiterített szélességig | D5: 45 | E5: m | H5: =F5*D5 -> 0 | I5: =G5*D5 -> 0
B6: 43-000-005 | C6: Bontási munkák Lefolyó csatorna bontása50 cm kiterített szélességig | D6: 45 | E6: m | H6: =F6*D6 -> 0 | I6: =G6*D6 -> 0
C7: Munkanem összesen (huf): | H7: =SUM(H2:H6) -> 0 | I7: =SUM(I2:I6) -> 0

Sheet  Asztalosszerkezetek
A1: Ssz. | B1: Tételszám | C1: Tétel szövege | D1: Menny. | E1: Egység | F1: Anyag egységár | G1: Díj egységre | H1: Anyag összesen | I1: Díj összesen
B2: "K" | C2: Meglévő nyílászáró szerkezetek bontása | D2: 50 | E2: m2 | H2: =F2*D2 -> 0 | I2: =G2*D2 -> 0
A3: 2 | B3: "K" | C3: AB-01 konszignációs jelű műanyag ablak 120*235 | D3: 7 | E3: db | H3: =F3*D3 -> 0 | I3: =G3*D3 -> 0
B4: "K" | C4: AB-02 konszignációs jelű műanyag ablak 170*140 | D4: 2 | E4: db | H4: =F4*D4 -> 0 | I4: =G4*D4 -> 0
A5: 1 | B5: "K" | C5: AB-03 konszignációs jelű műanyag ablak 60*60 | D5: 5 | E5: db | H5: =F5*D5 -> 0 | I5: =G5*D5 -> 0
A6: 3 | B6: "K" | C6: AB-04 konszignációs jelű műanyag ablak 70/110 | D6: 1 | E6: db | H6: =F6*D6 -> 0 | I6: =G6*D6 -> 0
A7: 4 | B7: "K" | C7: AB-05 konszignációs jelű műanyag ablak 120*300 | D7: 1 | E7: db | H7: =F7*D7 -> 0 | I7: =G7*D7 -> 0
B8: "K" | C8: AJ-01 konszignációs jelű műanyag ajtó 140*280 | D8: 1 | E8: db | H8: =F8*D8 -> 0 | I8: =G8*D8 -> 0
B9: "K" | C9: AJ-02 konszignációs jelű műanyag ajtó 160*320 | D9: 2 | E9: db | H9: =F9*D9 -> 0 | I9: =G9*D9 -> 0
B10: "K" | C10: AJ-03 konszignációs jelű műanyag ajtó 100*210 | D10: 2 | E10: db | H10: =F10*D10 -> 0 | I10: =G10*D10 -> 0
B11: "K" | C11: AJ-04 konszignációs jelű műanyag ajtó 75*210 | D11: 2 | E11: db | H11: =F11*D11 -> 0 | I11: =G11*D11 -> 0
B12: "K" | C12: AJ-05 konszignációs jelű műanyag ajtó 100*220 | D12: 1 | E12: db | H12: =F12*D12 -> 0 | I12: =G12*D12 -> 0
B13: "K" | C13: AJ-06 konszignációs jelű műanyag ajtó 160*320 | D13: 1 | E13: db | H13: =F13*D13 -> 0 | I13: =G13*D13 -> 0
B14: "K" | C14: AJ-07 konszignációs jelű műanyag ajtó 180*210 | D14: 1 | E14: db | H14: =F14*D14 -> 0 | I14: =G14*D14 -> 0
B15: "K" | C15: AJ-08 konszignációs jelű műanyag ajtó 90*210 | D15: 1 | E15: db | H15: =F15*D15 -> 0 | I15: =G15*D15 -> 0
B16: "K" | C16: AJ-09 konszignációs jelű HÖRMAN ZK belső ajtó 1100*2400 | D16: 1 | E16: db | H16: =F16*D16 -> 0 | I16: =G16*D16 -> 0
B17: "K" | C17: AJ-10 konszignációs jelű műanyag ajtó 135*210 | D17: 9 | E17: db | H17: =F17*D17 -> 0 | I17: =G17*D17 -> 0
C18: Munkanem összesen (huf): | H18: =SUM(H2:H17) -> 0 | I18: =SUM(I2:I17) -> 0

Sheet  Lakatos-szerkezetek elhelyez
A1: Ssz. | B1: Tételszám | C1: Tétel szövege | D1: Menny. | E1: Egység | F1: Anyag egységár | G1: Díj egységre | H1: Anyag összesen | I1: Díj összesen
A2: 2 | B2: "K" | C2: Akadálymentes rámpakorlát elhelyezése kőcsavaros rögzítéssel Acélcső korlát, 51 mm hajlított átmérőjű kétsoros kézfogóval, 10/50 mm-es laposvas oszlopokkal, acél fogadóalemhez csavarpzva, tüzihorganyzott felülettel Nm: 750 mm magas | D2: 10 | E2: m | H2: =F2*D2 -> 0 | I2: =G2*D2 -> 0
C3: Munkanem összesen (huf): | H3: =SUM(H2:H2) -> 0 | I3: =SUM(I2:I2) -> 0

Sheet  Felületképzés
A1: Ssz. | B1: Tételszám | C1: Tétel szövege | D1: Menny. | E1: Egység | F1: Anyag egységár | G1: Díj egységre | H1: Anyag összesen | I1: Díj összesen
A2: 1 | B2: 47-000-001.21.7.1.1-0415512 | C2: Belső festéseknél felület előkészítése, részmunkák; glettelés, gipszes glettel, vakolt felületen, tagolatlan felületen Baumit FinoBello, gipszes glett, 0-10 mm-es vastagságban, Cikkszám: 951720 | D2: 50 | E2: m2 | H2: =F2*D2 -> 0 | I2: =G2*D2 -> 0
A3: 2 | B3: 47-011-015.1.1.1-0150241 | C3: Belső festések Diszperziós festés műanyag bázisú vizes-diszperziós fehér vagy gyárilag színezett festékkel, új vagy régi lekapart, előkészített alapfelületen,vakolaton, két rétegben, tagolatlan sima felületen SAKRET DFI diszperziós beltéri festék, fehér | D3: 50 | E3: m2 | H3: =F3*D3 -> 0 | I3: =G3*D3 -> 0
C4: Munkanem összesen (huf): | H4: =SUM(H2:H3) -> 0 | I4: =SUM(I2:I3) -> 0

Sheet  Szigetelés
A1: Ssz. | B1: Tételszám | C1: Tétel szövege | D1: Menny. | E1: Egység | F1: Anyag egységár | G1: Díj egységre | H1: Anyag összesen | I1: Díj összesen
A2: 1 | B2: "K" | C2: Padlásfödém hőszigetelése ROCKWOOL Airrock Hd kőzetgyapot lemezzel 200 mm | D2: 350 | E2: m2 | H2: =F2*D2 -> 0 | I2: =G2*D2 -> 0
A3: 3 | B3: "K" 48-007-056.1.3.1-0113544 | C3: Alátét- és elválasztó rétegek beépítése egy rétegben, átlapolással, rögzítés nélkül, fal szigeteléseknél, vízszintes felületen Pl: AUSTROTHERM polietilén fólia, 0,09 mm vastagságú, 2 m szélességű | D3: 350 | E3: m2 | H3: =F3*D3 -> 0 | I3: =G3*D3 -> 0
A4: 6 | B4: 48-010-001.5.2.1-0118007 | C4: Homlokzati hőszigetelés, üvegszövetháló-erősítéssel,(mechanikai rögzítés, felületi zárás valamint kiegészítő profilok külön tételben szerepelnek), lépcsős él-képzésű, érdesített XPS hőszigetelő lapokkal, ragasztóporból képzett ragasztóba, tagolatlan, sík, függőleges falon MASTERPLAST Isomaster XPS extrudált polisztirolhab lemez, 1250x600x100 mm, Cikkszám: 0510-8IR10000 | D4: 45 | E4: m2 | H4: =F4*D4 -> 0 | I4: =G4*D4 -> 0
A5: 8 | B5: 48-010-001.6.2.1-0093365 | C5: Homlokzati hőszigetelés, üvegszövetháló-erősítéssel,(mechanikai rögzítés, felületi zárás valamint kiegészítő profilok külön tételben szerepelnek), normál homlokzati kőzetgyapot hőszigetelő lapokkal, ragasztóporból képzett ragasztóba, tagolatlan, sík, függőleges falon ROCKWOOL Frontrock Max E vakolható, inhomogén kőzetgyapot lemez 150 mm | D5: 378 | E5: m2 | H5: =F5*D5 -> 0 | I5: =G5*D5 -> 0
B6: 48-007-021.1.2-0093333 | C6: Homlokzati fal hő- és hangszigetelése, falazott vagy monolit vasbeton szerkezeten, kávaképzés vízszintes és függőleges felületen,kőzetgyapot csíkkal ROCKWOOL Frontrock (RP-PT) vakolható kőzetgyapot lemez 30 mm | D6: 65 | E6: m2 | H6: =F6*D6 -> 0 | I6: =G6*D6 -> 0
A7: 9 | B7: 48-021-001.51.2.2.1-0190342 | C7: Hőszigetelő táblák pontszerű mechanikai rögzítése, homlokzaton, beton aljzatszerkezethez, műanyag vagy fém beütőszeges/csavaros műanyag beütődübelekkel LB-Knauf műanyag dűbel, fém beütőszeggel, 215 mm, Csz: K00835215 | D7: 2115 | E7: db | H7: =F7*D7 -> 0 | I7: =G7*D7 -> 0
C8: Munkanem összesen (huf): | H8: =SUM(H2:H7) -> 0 | I8: =SUM(I2:I7) -> 0

Sheet  Útpálya tartozékok építése
A1: Ssz. | B1: Tételszám | C1: Tétel szövege | D1: Menny. | E1: Egység | F1: Anyag egységár | G1: Díj egységre | H1: Anyag összesen | I1: Díj összesen
B2: 68-002-001.2-0451341 | C2: Közúti jelző- és útbaigazító táblák fémanyagú oszlopainak elhelyezése betonalappal,földmunkával, I-IV. osztályú talajban, 120 mm átmérőjű alumínium csőoszlop,változó méretben, egyes oszlop,0,2 m3/db helyszínen készített betonalappal Alumínium csőoszlop, 3,0 m-es | D2: 1 | E2: db | H2: =F2*D2 -> 0 | I2: =G2*D2 -> 0
B3: 68-002-002.3-0020138 | C3: Közúti jelző- és útbaigazító táblák felszerelése, kiegészítő táblák, 1-1 bilincskészlettel Alumínium kiegészítő jelzőtábla, fényvisszaverő, 500x500 mm HI * | D3: 1 | E3: db | H3: =F3*D3 -> 0 | I3: =G3*D3 -> 0
A4: 1 | B4: 68-003-001.1.2-0020284 | C4: Útburkolati jelek készítése, hagyományos oldószeres festékkel, kézi jel Csökkentett oldószer tartalmú (HS) festék Remo 93 AF fehér | D4: 1 | E4: klt | H4: =F4*D4 -> 0 | I4: =G4*D4 -> 0
C5: Munkanem összesen (huf): | H5: =SUM(H2:H4) -> 0 | I5: =SUM(I2:I4) -> 0

Sheet Vízellátás-csatornázás
A1: Ssz. | B1: Tételszám | C1: Tétel szövege | D1: Menny. | E1: Egység | F1: Anyag egységár | G1: Díj egységre | H1: Anyag összesen | I1: Díj összesen
A2: 1 | B2: "K" | C2: Akadálymets vizes blokk kialakításához szükséges víz és szennyvíz vezetékek átalakítása, kiépítése meglévő hálózatra való csatlakozása. | D2: 1 | E2: klt | H2: =F2*D2 -> 0 | I2: =G2*D2 -> 0
C3: Munkanem összesen (huf): | H3: =SUM(H2) -> 0 | I3: =SUM(I2) -> 0

Sheet Villanyszerelés
A1: Ssz. | B1: Tételszám | C1: Tétel szövege | D1: Menny. | E1: Egység | F1: Anyag egységár | G1: Díj egységre | H1: Anyag összesen | I1: Díj összesen
A2: 1 | B2: "K" | C2: Meglévő elektromos berendezések leszerelése | D2: 1 | E2: klt | H2: =F2*D2 -> 0 | I2: =G2*D2 -> 0
A3: 2 | B3: "K" | C3: Meglévő elektromos berendezések visszaszerelése | D3: 1 | E3: klt | H3: =F3*D3 -> 0 | I3: =G3*D3 -> 0
A4: 3 | B4: "K" | C4: Akadálymentes wc kialakításához szükséges elektromos hálózat átalakítása, szerelése | D4: 1 | E4: klt | H4: =F4*D4 -> 0 | I4: =G4*D4 -> 0
A5: 4 | B5: "K" | C5: Elektromos berendezések szerelvényei (lámpa, kacsoló, dugalj stb.) | D5: 1 | E5: klt | H5: =F5*D5 -> 0 | I5: =G5*D5 -> 0
A6: 5 | B6: "K" | C6: Akadálymenetes tervfejezet szerinti indukciós rendszer (hurok és készülék) kiépítése. | D6: 1 | E6: klt | H6: =F6*D6 -> 0 | I6: =G6*D6 -> 0
A7: 6 | B7: "K" | C7: szigetelési ellenállás értékét, az érintésvédelmi megvilágítási és villámvédelmi rendszerek megfelelőségét igazoló mérési, felülvizsgálati jegyzőkönyvek | D7: 1 | E7: klt | H7: =F7*D7 -> 0 | I7: =G7*D7 -> 0
C8: Munkanem összesen (huf): | H8: =SUM(H2:H7) -> 0 | I8: =SUM(I2:I7) -> 0
